BEGIN:VCALENDAR
VERSION:2.0
PRODID:-//P and V Winery - ECPv6.15.20//NONSGML v1.0//EN
CALSCALE:GREGORIAN
METHOD:PUBLISH
X-ORIGINAL-URL:https://pandvwinery.com
X-WR-CALDESC:Events for P and V Winery
REFRESH-INTERVAL;VALUE=DURATION:PT1H
X-Robots-Tag:noindex
X-PUBLISHED-TTL:PT1H
BEGIN:VTIMEZONE
TZID:America/Denver
BEGIN:DAYLIGHT
TZOFFSETFROM:-0700
TZOFFSETTO:-0600
TZNAME:MDT
DTSTART:20250309T090000
END:DAYLIGHT
BEGIN:STANDARD
TZOFFSETFROM:-0600
TZOFFSETTO:-0700
TZNAME:MST
DTSTART:20251102T080000
END:STANDARD
BEGIN:DAYLIGHT
TZOFFSETFROM:-0700
TZOFFSETTO:-0600
TZNAME:MDT
DTSTART:20260308T090000
END:DAYLIGHT
BEGIN:STANDARD
TZOFFSETFROM:-0600
TZOFFSETTO:-0700
TZNAME:MST
DTSTART:20261101T080000
END:STANDARD
BEGIN:DAYLIGHT
TZOFFSETFROM:-0700
TZOFFSETTO:-0600
TZNAME:MDT
DTSTART:20270314T090000
END:DAYLIGHT
BEGIN:STANDARD
TZOFFSETFROM:-0600
TZOFFSETTO:-0700
TZNAME:MST
DTSTART:20271107T080000
END:STANDARD
END:VTIMEZONE
BEGIN:VEVENT
DTSTART;TZID=America/Denver:20260501T183000
DTEND;TZID=America/Denver:20260501T203000
DTSTAMP:20260420T083800
CREATED:20260417T144247Z
LAST-MODIFIED:20260417T144309Z
UID:11547-1777660200-1777667400@pandvwinery.com
SUMMARY:Beginner Line Dancing Classes (6:30-8:30)
DESCRIPTION:Bev is our instructor.  The cost is $5.  Come learn with Vicki and Paul.
URL:https://pandvwinery.com/event/beginner-line-dancing-classes-630-830/
LOCATION:P & V Winery\, 10155 Dougherty Ave\, Morgan Hill\, California\, 95037\, United States
CATEGORIES:Line Dancing,Wine Tasting
ATTACH;FMTTYPE=image/jpeg:https://pandvwinery.com/wp-content/uploads/2024/08/Bootleg-Line-Dancers-scaled.jpg
END:VEVENT
BEGIN:VEVENT
DTSTART;TZID=America/Denver:20260516T170000
DTEND;TZID=America/Denver:20260516T213000
DTSTAMP:20260420T083800
CREATED:20260417T152117Z
LAST-MODIFIED:20260417T152117Z
UID:11554-1778950800-1778967000@pandvwinery.com
SUMMARY:Country Extravaganza with Bootleg
DESCRIPTION:Adult only\, line dancing and wine tasting
URL:https://pandvwinery.com/event/country-extravaganza-with-bootleg/
LOCATION:P & V Winery\, 10155 Dougherty Ave\, Morgan Hill\, California\, 95037\, United States
CATEGORIES:Line Dancing,Live Music,Wine Tasting
ATTACH;FMTTYPE=image/jpeg:https://pandvwinery.com/wp-content/uploads/2026/04/Bootleg-Flyer-2026.jpg
END:VEVENT
BEGIN:VEVENT
DTSTART;TZID=America/Denver:20260529T170000
DTEND;TZID=America/Denver:20260529T213000
DTSTAMP:20260420T083800
CREATED:20260417T153748Z
LAST-MODIFIED:20260417T154702Z
UID:11560-1780074000-1780090200@pandvwinery.com
SUMMARY:Country Extravaganza with Heartland ( 6:00-9:30)
DESCRIPTION:Wine Tasting\, Classic Country\, BBQ & Line Dancing!
URL:https://pandvwinery.com/event/country-extravaganza-with-heartland-600-930/
LOCATION:P & V Winery\, 10155 Dougherty Ave\, Morgan Hill\, California\, 95037\, United States
CATEGORIES:Line Dancing,Live Music,Wine Tasting
ATTACH;FMTTYPE=image/jpeg:https://pandvwinery.com/wp-content/uploads/2026/04/Hearland-Flyer-2026.jpg
END:VEVENT
END:VCALENDAR