BEGIN:VCALENDAR
VERSION:2.0
PRODID:-//P and V Winery - ECPv6.15.20//NONSGML v1.0//EN
CALSCALE:GREGORIAN
METHOD:PUBLISH
X-ORIGINAL-URL:https://pandvwinery.com
X-WR-CALDESC:Events for P and V Winery
REFRESH-INTERVAL;VALUE=DURATION:PT1H
X-Robots-Tag:noindex
X-PUBLISHED-TTL:PT1H
BEGIN:VTIMEZONE
TZID:America/Denver
BEGIN:DAYLIGHT
TZOFFSETFROM:-0700
TZOFFSETTO:-0600
TZNAME:MDT
DTSTART:20250309T090000
END:DAYLIGHT
BEGIN:STANDARD
TZOFFSETFROM:-0600
TZOFFSETTO:-0700
TZNAME:MST
DTSTART:20251102T080000
END:STANDARD
BEGIN:DAYLIGHT
TZOFFSETFROM:-0700
TZOFFSETTO:-0600
TZNAME:MDT
DTSTART:20260308T090000
END:DAYLIGHT
BEGIN:STANDARD
TZOFFSETFROM:-0600
TZOFFSETTO:-0700
TZNAME:MST
DTSTART:20261101T080000
END:STANDARD
BEGIN:DAYLIGHT
TZOFFSETFROM:-0700
TZOFFSETTO:-0600
TZNAME:MDT
DTSTART:20270314T090000
END:DAYLIGHT
BEGIN:STANDARD
TZOFFSETFROM:-0600
TZOFFSETTO:-0700
TZNAME:MST
DTSTART:20271107T080000
END:STANDARD
END:VTIMEZONE
BEGIN:VEVENT
DTSTART;TZID=America/Denver:20260214T110000
DTEND;TZID=America/Denver:20260214T160000
DTSTAMP:20260419T073201
CREATED:20260130T040240Z
LAST-MODIFIED:20260130T040356Z
UID:11430-1771066800-1771084800@pandvwinery.com
SUMMARY:Valentines! RNR music 12:30- 3:30 Closing at 4pm
DESCRIPTION:Welcome to Wine Not Mingle Open til 4:00 \nSweet flights
URL:https://pandvwinery.com/event/valentines-rnr-music-1230-330-closing-at-4pm/
LOCATION:P & V Winery\, 10155 Dougherty Ave\, Morgan Hill\, California\, 95037\, United States
CATEGORIES:Live Music,Wine Tasting
ATTACH;FMTTYPE=image/jpeg:https://pandvwinery.com/wp-content/uploads/2026/01/new-val-flyer.jpg
END:VEVENT
END:VCALENDAR