BEGIN:VCALENDAR
VERSION:2.0
PRODID:-//P and V Winery - ECPv6.15.20//NONSGML v1.0//EN
CALSCALE:GREGORIAN
METHOD:PUBLISH
X-WR-CALNAME:P and V Winery
X-ORIGINAL-URL:https://pandvwinery.com
X-WR-CALDESC:Events for P and V Winery
REFRESH-INTERVAL;VALUE=DURATION:PT1H
X-Robots-Tag:noindex
X-PUBLISHED-TTL:PT1H
BEGIN:VTIMEZONE
TZID:America/Denver
BEGIN:DAYLIGHT
TZOFFSETFROM:-0700
TZOFFSETTO:-0600
TZNAME:MDT
DTSTART:20250309T090000
END:DAYLIGHT
BEGIN:STANDARD
TZOFFSETFROM:-0600
TZOFFSETTO:-0700
TZNAME:MST
DTSTART:20251102T080000
END:STANDARD
BEGIN:DAYLIGHT
TZOFFSETFROM:-0700
TZOFFSETTO:-0600
TZNAME:MDT
DTSTART:20260308T090000
END:DAYLIGHT
BEGIN:STANDARD
TZOFFSETFROM:-0600
TZOFFSETTO:-0700
TZNAME:MST
DTSTART:20261101T080000
END:STANDARD
BEGIN:DAYLIGHT
TZOFFSETFROM:-0700
TZOFFSETTO:-0600
TZNAME:MDT
DTSTART:20270314T090000
END:DAYLIGHT
BEGIN:STANDARD
TZOFFSETFROM:-0600
TZOFFSETTO:-0700
TZNAME:MST
DTSTART:20271107T080000
END:STANDARD
END:VTIMEZONE
BEGIN:VEVENT
DTSTART;TZID=America/Denver:20260425T110000
DTEND;TZID=America/Denver:20260425T160000
DTSTAMP:20260420T044732
CREATED:20260325T223244Z
LAST-MODIFIED:20260417T154436Z
UID:11525-1777114800-1777132800@pandvwinery.com
SUMMARY:Wine Tasting featuring Diver Sity (12:30 -3:30)
DESCRIPTION:Come relax with your favorite glass of wine!  Closing at 4 for Private party!
URL:https://pandvwinery.com/event/wine-tasting-featuring-diver-sity-1-4pm/
LOCATION:P & V Winery\, 10155 Dougherty Ave\, Morgan Hill\, California\, 95037\, United States
CATEGORIES:Live Music,Wine Tasting
ATTACH;FMTTYPE=image/jpeg:https://pandvwinery.com/wp-content/uploads/2026/03/Wine-cocktails.jpg
END:VEVENT
BEGIN:VEVENT
DTSTART;TZID=America/Denver:20260426T120000
DTEND;TZID=America/Denver:20260426T170000
DTSTAMP:20260420T044732
CREATED:20260417T143505Z
LAST-MODIFIED:20260417T152546Z
UID:11545-1777204800-1777222800@pandvwinery.com
SUMMARY:Vendors in the Vines ( 12-5pm)
DESCRIPTION:Music by Echo Road Duo\, Tacos and Vendors
URL:https://pandvwinery.com/event/vendors-in-the-vines-12-5pm-2/
LOCATION:P & V Winery\, 10155 Dougherty Ave\, Morgan Hill\, California\, 95037\, United States
CATEGORIES:Live Music,Vendors,Wine Tasting
ATTACH;FMTTYPE=image/jpeg:https://pandvwinery.com/wp-content/uploads/2026/04/VIV-April-2026.jpg
END:VEVENT
BEGIN:VEVENT
DTSTART;TZID=America/Denver:20260502T110000
DTEND;TZID=America/Denver:20260502T170000
DTSTAMP:20260420T044732
CREATED:20260417T144543Z
LAST-MODIFIED:20260417T144543Z
UID:11549-1777719600-1777741200@pandvwinery.com
SUMMARY:Wine Tasting with Throwing Roses ( 1-4pm)
DESCRIPTION:Shelley and the boys are back!
URL:https://pandvwinery.com/event/wine-tasting-with-throwing-roses-1-4pm-2/
LOCATION:P & V Winery\, 10155 Dougherty Ave\, Morgan Hill\, California\, 95037\, United States
CATEGORIES:Live Music,Wine Tasting
ATTACH;FMTTYPE=image/jpeg:https://pandvwinery.com/wp-content/uploads/2026/03/throwing-roses-new.jpeg
END:VEVENT
BEGIN:VEVENT
DTSTART;TZID=America/Denver:20260503T110000
DTEND;TZID=America/Denver:20260503T170000
DTSTAMP:20260420T044732
CREATED:20260417T144721Z
LAST-MODIFIED:20260417T144721Z
UID:11550-1777806000-1777827600@pandvwinery.com
SUMMARY:Wine Tasting with RNR ( 1-4pm)
DESCRIPTION:Ron and Rebecca songs by request!
URL:https://pandvwinery.com/event/wine-tasting-with-rnr-1-4pm/
LOCATION:P & V Winery\, 10155 Dougherty Ave\, Morgan Hill\, California\, 95037\, United States
CATEGORIES:Live Music,Wine Tasting
ATTACH;FMTTYPE=image/jpeg:https://pandvwinery.com/wp-content/uploads/2025/01/RNR.jpg
END:VEVENT
BEGIN:VEVENT
DTSTART;TZID=America/Denver:20260509T110000
DTEND;TZID=America/Denver:20260509T170000
DTSTAMP:20260420T044732
CREATED:20260417T144943Z
LAST-MODIFIED:20260417T144943Z
UID:11551-1778324400-1778346000@pandvwinery.com
SUMMARY:Wine Tasting with Levi Jack ( 1-4pm)
DESCRIPTION:Always a great afternoon with Marty and the boys!
URL:https://pandvwinery.com/event/wine-tasting-with-levi-jack-1-4pm/
LOCATION:P & V Winery\, 10155 Dougherty Ave\, Morgan Hill\, California\, 95037\, United States
CATEGORIES:Live Music,Wine Tasting
ATTACH;FMTTYPE=image/jpeg:https://pandvwinery.com/wp-content/uploads/2025/01/Levi-Jack-sign.jpg
END:VEVENT
BEGIN:VEVENT
DTSTART;TZID=America/Denver:20260516T170000
DTEND;TZID=America/Denver:20260516T213000
DTSTAMP:20260420T044732
CREATED:20260417T152117Z
LAST-MODIFIED:20260417T152117Z
UID:11554-1778950800-1778967000@pandvwinery.com
SUMMARY:Country Extravaganza with Bootleg
DESCRIPTION:Adult only\, line dancing and wine tasting
URL:https://pandvwinery.com/event/country-extravaganza-with-bootleg/
LOCATION:P & V Winery\, 10155 Dougherty Ave\, Morgan Hill\, California\, 95037\, United States
CATEGORIES:Line Dancing,Live Music,Wine Tasting
ATTACH;FMTTYPE=image/jpeg:https://pandvwinery.com/wp-content/uploads/2026/04/Bootleg-Flyer-2026.jpg
END:VEVENT
BEGIN:VEVENT
DTSTART;TZID=America/Denver:20260517T120000
DTEND;TZID=America/Denver:20260517T170000
DTSTAMP:20260420T044732
CREATED:20260417T152448Z
LAST-MODIFIED:20260417T152448Z
UID:11556-1779019200-1779037200@pandvwinery.com
SUMMARY:Wine Tasting with Echo Road ( 1-4pm)
DESCRIPTION:Come enjoy a lazy afternoon with us!
URL:https://pandvwinery.com/event/wine-tasting-with-echo-road-1-4pm/
LOCATION:P & V Winery\, 10155 Dougherty Ave\, Morgan Hill\, California\, 95037\, United States
CATEGORIES:Live Music,Wine Tasting
ATTACH;FMTTYPE=image/jpeg:https://pandvwinery.com/wp-content/uploads/2025/07/Sangria-Sundays-1-scaled.jpg
END:VEVENT
BEGIN:VEVENT
DTSTART;TZID=America/Denver:20260523T110000
DTEND;TZID=America/Denver:20260523T170000
DTSTAMP:20260420T044732
CREATED:20260417T153011Z
LAST-MODIFIED:20260417T153011Z
UID:11557-1779534000-1779555600@pandvwinery.com
SUMMARY:Wine Tasting with DiverSity ( 1-4pm)
DESCRIPTION:Wine and music by DiverSity are a great pairing!
URL:https://pandvwinery.com/event/wine-tasting-with-diversity-1-4pm/
LOCATION:P & V Winery\, 10155 Dougherty Ave\, Morgan Hill\, California\, 95037\, United States
CATEGORIES:Live Music,Wine Tasting
ATTACH;FMTTYPE=image/jpeg:https://pandvwinery.com/wp-content/uploads/2024/11/DJI_20240526_140056_571-2-scaled.jpg
END:VEVENT
BEGIN:VEVENT
DTSTART;TZID=America/Denver:20260524T120000
DTEND;TZID=America/Denver:20260524T170000
DTSTAMP:20260420T044732
CREATED:20260417T153457Z
LAST-MODIFIED:20260417T153457Z
UID:11558-1779624000-1779642000@pandvwinery.com
SUMMARY:Vendors in the Vines with the Aromas Quarry Boys
DESCRIPTION:Classic County\, Amazing wine\, Tacos & Vendors!
URL:https://pandvwinery.com/event/vendors-in-the-vines-with-the-aromas-quarry-boys/
LOCATION:P & V Winery\, 10155 Dougherty Ave\, Morgan Hill\, California\, 95037\, United States
CATEGORIES:Live Music,Vendors,Wine Tasting
ATTACH;FMTTYPE=image/jpeg:https://pandvwinery.com/wp-content/uploads/2026/04/VIV-May-2026.jpg
END:VEVENT
BEGIN:VEVENT
DTSTART;TZID=America/Denver:20260529T170000
DTEND;TZID=America/Denver:20260529T213000
DTSTAMP:20260420T044732
CREATED:20260417T153748Z
LAST-MODIFIED:20260417T154702Z
UID:11560-1780074000-1780090200@pandvwinery.com
SUMMARY:Country Extravaganza with Heartland ( 6:00-9:30)
DESCRIPTION:Wine Tasting\, Classic Country\, BBQ & Line Dancing!
URL:https://pandvwinery.com/event/country-extravaganza-with-heartland-600-930/
LOCATION:P & V Winery\, 10155 Dougherty Ave\, Morgan Hill\, California\, 95037\, United States
CATEGORIES:Line Dancing,Live Music,Wine Tasting
ATTACH;FMTTYPE=image/jpeg:https://pandvwinery.com/wp-content/uploads/2026/04/Hearland-Flyer-2026.jpg
END:VEVENT
BEGIN:VEVENT
DTSTART;TZID=America/Denver:20260530T110000
DTEND;TZID=America/Denver:20260530T170000
DTSTAMP:20260420T044732
CREATED:20260417T154316Z
LAST-MODIFIED:20260417T154316Z
UID:11563-1780138800-1780160400@pandvwinery.com
SUMMARY:Wine Tasting with Harmony Lane ( 1-4pm)
DESCRIPTION:Come Wine down with us!
URL:https://pandvwinery.com/event/wine-tasting-with-harmony-lane-1-4pm/
LOCATION:P & V Winery\, 10155 Dougherty Ave\, Morgan Hill\, California\, 95037\, United States
CATEGORIES:Live Music,Wine Tasting
ATTACH;FMTTYPE=image/jpeg:https://pandvwinery.com/wp-content/uploads/2026/03/Wine-cocktails.jpg
END:VEVENT
BEGIN:VEVENT
DTSTART;TZID=America/Denver:20260531T120000
DTEND;TZID=America/Denver:20260531T170000
DTSTAMP:20260420T044732
CREATED:20260417T154025Z
LAST-MODIFIED:20260417T154025Z
UID:11562-1780228800-1780246800@pandvwinery.com
SUMMARY:Wine Tasting with Levi Jack ( 1-4pm)
DESCRIPTION:Marty and the Boys are back to entertain you!
URL:https://pandvwinery.com/event/wine-tasting-with-levi-jack-1-4pm-2/
LOCATION:P & V Winery\, 10155 Dougherty Ave\, Morgan Hill\, California\, 95037\, United States
CATEGORIES:Live Music,Wine Tasting
ATTACH;FMTTYPE=image/jpeg:https://pandvwinery.com/wp-content/uploads/2023/02/Levi-Jack-sign-1.jpg
END:VEVENT
END:VCALENDAR