BEGIN:VCALENDAR
VERSION:2.0
PRODID:-//P and V Winery - ECPv6.15.20//NONSGML v1.0//EN
CALSCALE:GREGORIAN
METHOD:PUBLISH
X-WR-CALNAME:P and V Winery
X-ORIGINAL-URL:https://pandvwinery.com
X-WR-CALDESC:Events for P and V Winery
REFRESH-INTERVAL;VALUE=DURATION:PT1H
X-Robots-Tag:noindex
X-PUBLISHED-TTL:PT1H
BEGIN:VTIMEZONE
TZID:America/Denver
BEGIN:DAYLIGHT
TZOFFSETFROM:-0700
TZOFFSETTO:-0600
TZNAME:MDT
DTSTART:20240310T090000
END:DAYLIGHT
BEGIN:STANDARD
TZOFFSETFROM:-0600
TZOFFSETTO:-0700
TZNAME:MST
DTSTART:20241103T080000
END:STANDARD
BEGIN:DAYLIGHT
TZOFFSETFROM:-0700
TZOFFSETTO:-0600
TZNAME:MDT
DTSTART:20250309T090000
END:DAYLIGHT
BEGIN:STANDARD
TZOFFSETFROM:-0600
TZOFFSETTO:-0700
TZNAME:MST
DTSTART:20251102T080000
END:STANDARD
BEGIN:DAYLIGHT
TZOFFSETFROM:-0700
TZOFFSETTO:-0600
TZNAME:MDT
DTSTART:20260308T090000
END:DAYLIGHT
BEGIN:STANDARD
TZOFFSETFROM:-0600
TZOFFSETTO:-0700
TZNAME:MST
DTSTART:20261101T080000
END:STANDARD
END:VTIMEZONE
BEGIN:VEVENT
DTSTART;TZID=America/Denver:20251005T120000
DTEND;TZID=America/Denver:20251005T170000
DTSTAMP:20260420T032742
CREATED:20251001T183614Z
LAST-MODIFIED:20251001T183614Z
UID:11313-1759665600-1759683600@pandvwinery.com
SUMMARY:RNR in the Wine Garden ( 1-4pm)
DESCRIPTION:Ron and Rebecca are back again with songs by request.  Bring your picnic!
URL:https://pandvwinery.com/event/rnr-in-the-wine-garden-1-4pm-2/
LOCATION:P & V Winery\, 10155 Dougherty Ave\, Morgan Hill\, California\, 95037\, United States
CATEGORIES:Live Music,Wine Garden,Wine Tasting
ATTACH;FMTTYPE=image/jpeg:https://pandvwinery.com/wp-content/uploads/2025/01/RNR.jpg
END:VEVENT
BEGIN:VEVENT
DTSTART;TZID=America/Denver:20251004T110000
DTEND;TZID=America/Denver:20251004T170000
DTSTAMP:20260420T032742
CREATED:20251001T183154Z
LAST-MODIFIED:20251002T142551Z
UID:11311-1759575600-1759597200@pandvwinery.com
SUMMARY:Oktoberfest Party and Aram release Honky Tonk Saintz
DESCRIPTION:Come enjoy our new 2022 Aram reserve and this amazing country duo! Food options
URL:https://pandvwinery.com/event/oktoberfest-party-and-aram-release-honky-tonk-saintz/
LOCATION:P & V Winery\, 10155 Dougherty Ave\, Morgan Hill\, California\, 95037\, United States
CATEGORIES:Live Music,Wine Garden,Wine Tasting
ATTACH;FMTTYPE=image/png:https://pandvwinery.com/wp-content/uploads/2025/10/Oktober-Fest-.png
END:VEVENT
BEGIN:VEVENT
DTSTART;TZID=America/Denver:20250928T120000
DTEND;TZID=America/Denver:20250928T170000
DTSTAMP:20260420T032742
CREATED:20250120T043902Z
LAST-MODIFIED:20250120T043902Z
UID:10817-1759060800-1759078800@pandvwinery.com
SUMMARY:Vendors in the Vines with Blue Violin ( 1-4pm)
DESCRIPTION:Bluegrass\, Classic Country\, Vendors and Tacos!
URL:https://pandvwinery.com/event/vendors-in-the-vines-with-blue-violin-1-4pm/
LOCATION:P & V Winery\, 10155 Dougherty Ave\, Morgan Hill\, California\, 95037\, United States
CATEGORIES:Live Music,Vendors,Wine Tasting
ATTACH;FMTTYPE=image/jpeg:https://pandvwinery.com/wp-content/uploads/2025/01/Blue-Violin.jpg
END:VEVENT
BEGIN:VEVENT
DTSTART;TZID=America/Denver:20250927T110000
DTEND;TZID=America/Denver:20250927T170000
DTSTAMP:20260420T032742
CREATED:20250120T043531Z
LAST-MODIFIED:20250812T052133Z
UID:10816-1758970800-1758992400@pandvwinery.com
SUMMARY:RNR in the Wine Garden ( 1-4pm)
DESCRIPTION:Ron and Rebecca are back with songs by request!
URL:https://pandvwinery.com/event/encore-in-the-wine-garden-1-4pm-4/
LOCATION:P & V Winery\, 10155 Dougherty Ave\, Morgan Hill\, California\, 95037\, United States
CATEGORIES:Live Music,Wine Tasting
ATTACH;FMTTYPE=image/jpeg:https://pandvwinery.com/wp-content/uploads/2025/01/RNR.jpg
END:VEVENT
BEGIN:VEVENT
DTSTART;TZID=America/Denver:20250921T120000
DTEND;TZID=America/Denver:20250921T170000
DTSTAMP:20260420T032742
CREATED:20250120T043318Z
LAST-MODIFIED:20250120T043318Z
UID:10815-1758456000-1758474000@pandvwinery.com
SUMMARY:Honky Tonk Saints in the Wine Garden ( 1-4pm)
DESCRIPTION:Come enjoy this amazing Country Duo!
URL:https://pandvwinery.com/event/honky-tonk-saints-in-the-wine-garden-1-4pm-2/
LOCATION:P & V Winery\, 10155 Dougherty Ave\, Morgan Hill\, California\, 95037\, United States
CATEGORIES:Live Music,Wine Tasting
ATTACH;FMTTYPE=image/jpeg:https://pandvwinery.com/wp-content/uploads/2025/01/Honky-Tonk-Saints.jpg
END:VEVENT
BEGIN:VEVENT
DTSTART;TZID=America/Denver:20250920T170000
DTEND;TZID=America/Denver:20250920T213000
DTSTAMP:20260420T032742
CREATED:20250120T042724Z
LAST-MODIFIED:20250120T042724Z
UID:10814-1758387600-1758403800@pandvwinery.com
SUMMARY:Country Night Extravaganza with Southbound 101 ( 6:30-9:30)
DESCRIPTION:Country Music\, Line Dancing\, Vendors and Tacos!
URL:https://pandvwinery.com/event/country-night-extravaganza-with-southbound-101-630-930/
LOCATION:P & V Winery\, 10155 Dougherty Ave\, Morgan Hill\, California\, 95037\, United States
CATEGORIES:Country Night Extravaganza,Live Music,Vendors,Wine Tasting
ATTACH;FMTTYPE=image/png:https://pandvwinery.com/wp-content/uploads/2025/01/2025-Country-Extravaganza.png
END:VEVENT
BEGIN:VEVENT
DTSTART;TZID=America/Denver:20250914T120000
DTEND;TZID=America/Denver:20250914T170000
DTSTAMP:20260420T032742
CREATED:20250120T042104Z
LAST-MODIFIED:20250120T042104Z
UID:10812-1757851200-1757869200@pandvwinery.com
SUMMARY:RNR in the Wine Garden ( 1-4pm)
DESCRIPTION:Ron and Rebecca are back to share their songs!
URL:https://pandvwinery.com/event/rnr-in-the-wine-garden-1-4pm/
LOCATION:P & V Winery\, 10155 Dougherty Ave\, Morgan Hill\, California\, 95037\, United States
CATEGORIES:Live Music,Wine Tasting
ATTACH;FMTTYPE=image/jpeg:https://pandvwinery.com/wp-content/uploads/2025/01/R-and-R.jpeg
END:VEVENT
BEGIN:VEVENT
DTSTART;TZID=America/Denver:20250913T110000
DTEND;TZID=America/Denver:20250913T170000
DTSTAMP:20260420T032742
CREATED:20250120T041850Z
LAST-MODIFIED:20250120T041850Z
UID:10811-1757761200-1757782800@pandvwinery.com
SUMMARY:Levi Jack in the Wine Garden ( 1-4pm)
DESCRIPTION:California Americana Alternative Rock in the Wine Garden & Wine!
URL:https://pandvwinery.com/event/levi-jack-in-the-wine-garden-1-4pm-9/
LOCATION:P & V Winery\, 10155 Dougherty Ave\, Morgan Hill\, California\, 95037\, United States
CATEGORIES:Live Music,Wine Tasting
ATTACH;FMTTYPE=image/jpeg:https://pandvwinery.com/wp-content/uploads/2025/01/Levi-Jack-new.jpg
END:VEVENT
BEGIN:VEVENT
DTSTART;TZID=America/Denver:20250907T120000
DTEND;TZID=America/Denver:20250907T170000
DTSTAMP:20260420T032742
CREATED:20250120T041556Z
LAST-MODIFIED:20250120T041556Z
UID:10810-1757246400-1757264400@pandvwinery.com
SUMMARY:Aromas Quarry Boys in the Wine Garden ( 1-4pm)
DESCRIPTION:Bluegrass and Classic Country in the wine garden!
URL:https://pandvwinery.com/event/aromas-quarry-boys-in-the-wine-garden-1-4pm-9/
LOCATION:P & V Winery\, 10155 Dougherty Ave\, Morgan Hill\, California\, 95037\, United States
CATEGORIES:Live Music,Wine Tasting
ATTACH;FMTTYPE=image/jpeg:https://pandvwinery.com/wp-content/uploads/2025/01/Aromas-Q-New-PV-scaled.jpg
END:VEVENT
BEGIN:VEVENT
DTSTART;TZID=America/Denver:20250906T110000
DTEND;TZID=America/Denver:20250906T170000
DTSTAMP:20260420T032742
CREATED:20250120T040852Z
LAST-MODIFIED:20250812T051713Z
UID:10809-1757156400-1757178000@pandvwinery.com
SUMMARY:RNR in the Wine Garden ( 1-4pm)
DESCRIPTION:Ron and Rebecca in the wine garden
URL:https://pandvwinery.com/event/hack-jammers-in-the-wine-garden-1-4pm-4/
LOCATION:P & V Winery\, 10155 Dougherty Ave\, Morgan Hill\, California\, 95037\, United States
CATEGORIES:Live Music,Wine Tasting
ATTACH;FMTTYPE=image/jpeg:https://pandvwinery.com/wp-content/uploads/2025/01/R-and-R.jpeg
END:VEVENT
BEGIN:VEVENT
DTSTART;TZID=America/Denver:20250831T120000
DTEND;TZID=America/Denver:20250831T170000
DTSTAMP:20260420T032742
CREATED:20250120T035645Z
LAST-MODIFIED:20250120T035645Z
UID:10808-1756641600-1756659600@pandvwinery.com
SUMMARY:Aromas Quarry Boys in the Wine Garden ( 1-4pm)
DESCRIPTION:Classic country and Bluegrass in the wine garden!
URL:https://pandvwinery.com/event/aromas-quarry-boys-in-the-wine-garden-1-4pm-8/
LOCATION:P & V Winery\, 10155 Dougherty Ave\, Morgan Hill\, California\, 95037\, United States
CATEGORIES:Live Music,Wine Tasting
ATTACH;FMTTYPE=image/jpeg:https://pandvwinery.com/wp-content/uploads/2025/01/Aromas-Q-New-PV-scaled.jpg
END:VEVENT
BEGIN:VEVENT
DTSTART;TZID=America/Denver:20250830T110000
DTEND;TZID=America/Denver:20250830T170000
DTSTAMP:20260420T032742
CREATED:20250118T222732Z
LAST-MODIFIED:20250812T051029Z
UID:10788-1756551600-1756573200@pandvwinery.com
SUMMARY:One More Time in the Wine Garden ( 1-4pm)
DESCRIPTION:Come chill with your favorite wine!
URL:https://pandvwinery.com/event/encore-in-the-wine-garden-1-4pm-3/
LOCATION:P & V Winery\, 10155 Dougherty Ave\, Morgan Hill\, California\, 95037\, United States
CATEGORIES:Live Music,Wine Tasting
ATTACH;FMTTYPE=image/jpeg:https://pandvwinery.com/wp-content/uploads/2025/01/One-More-Time.jpg
END:VEVENT
BEGIN:VEVENT
DTSTART;TZID=America/Denver:20250824T120000
DTEND;TZID=America/Denver:20250824T170000
DTSTAMP:20260420T032742
CREATED:20250120T035314Z
LAST-MODIFIED:20250120T035314Z
UID:10807-1756036800-1756054800@pandvwinery.com
SUMMARY:Vendors in the Vines with Sequoia ( music 1-4pm)
DESCRIPTION:Vendors\, Classic Rock and Tacos!
URL:https://pandvwinery.com/event/vendors-in-the-vines-with-sequoia-music-1-4pm/
CATEGORIES:Live Music,Vendors,Wine Tasting
ATTACH;FMTTYPE=image/jpeg:https://pandvwinery.com/wp-content/uploads/2025/01/Sequoia.jpg
END:VEVENT
BEGIN:VEVENT
DTSTART;TZID=America/Denver:20250823T110000
DTEND;TZID=America/Denver:20250823T170000
DTSTAMP:20260420T032742
CREATED:20250120T035033Z
LAST-MODIFIED:20250120T035033Z
UID:10806-1755946800-1755968400@pandvwinery.com
SUMMARY:Brutus Constitution in the Wine Garden ( 1-4pm)
DESCRIPTION:Chris Fortuna and Friends will be sharing their music!
URL:https://pandvwinery.com/event/brutus-constitution-in-the-wine-garden-1-4pm-3/
LOCATION:P & V Winery\, 10155 Dougherty Ave\, Morgan Hill\, California\, 95037\, United States
CATEGORIES:Live Music,Wine Tasting
ATTACH;FMTTYPE=image/jpeg:https://pandvwinery.com/wp-content/uploads/2025/01/Constitution-Brutus.jpg
END:VEVENT
BEGIN:VEVENT
DTSTART;TZID=America/Denver:20250817T120000
DTEND;TZID=America/Denver:20250817T170000
DTSTAMP:20260420T032742
CREATED:20250119T191933Z
LAST-MODIFIED:20250119T191933Z
UID:10804-1755432000-1755450000@pandvwinery.com
SUMMARY:Blue Violin in the Wine Garden
DESCRIPTION:Bluegrass and Classic Rock from this local Trio!
URL:https://pandvwinery.com/event/blue-violin-in-the-wine-garden/
LOCATION:P & V Winery\, 10155 Dougherty Ave\, Morgan Hill\, California\, 95037\, United States
CATEGORIES:Live Music,Wine Tasting
ATTACH;FMTTYPE=image/jpeg:https://pandvwinery.com/wp-content/uploads/2025/01/Blue-Violin-1.jpg
END:VEVENT
BEGIN:VEVENT
DTSTART;TZID=America/Denver:20250816T170000
DTEND;TZID=America/Denver:20250816T213000
DTSTAMP:20260420T032742
CREATED:20250119T191422Z
LAST-MODIFIED:20250119T191422Z
UID:10803-1755363600-1755379800@pandvwinery.com
SUMMARY:Country Night Extravaganza with BootLeg ( 6:30-9:30pm)
DESCRIPTION:Country Music\, Line Dancing\, Tacos and Vendors!
URL:https://pandvwinery.com/event/country-night-extravaganza-with-bootleg-630-930pm/
LOCATION:P & V Winery\, 10155 Dougherty Ave\, Morgan Hill\, California\, 95037\, United States
CATEGORIES:Country Night Extravaganza,Live Music,Wine Tasting
ATTACH;FMTTYPE=image/png:https://pandvwinery.com/wp-content/uploads/2025/01/2025-Country-Extravaganza.png
END:VEVENT
BEGIN:VEVENT
DTSTART;TZID=America/Denver:20250810T120000
DTEND;TZID=America/Denver:20250810T170000
DTSTAMP:20260420T032742
CREATED:20250119T185831Z
LAST-MODIFIED:20250119T185831Z
UID:10801-1754827200-1754845200@pandvwinery.com
SUMMARY:Honky Tonk Saints ( 1-4pm)
DESCRIPTION:Come enjoy this Country Duo on a lazy afternoon!
URL:https://pandvwinery.com/event/honky-tonk-saints-1-4pm/
LOCATION:P & V Winery\, 10155 Dougherty Ave\, Morgan Hill\, California\, 95037\, United States
CATEGORIES:Live Music,Wine Tasting
ATTACH;FMTTYPE=image/jpeg:https://pandvwinery.com/wp-content/uploads/2025/01/Honky-Tonk-Saints.jpg
END:VEVENT
BEGIN:VEVENT
DTSTART;TZID=America/Denver:20250809T110000
DTEND;TZID=America/Denver:20250809T170000
DTSTAMP:20260420T032742
CREATED:20250119T185146Z
LAST-MODIFIED:20250119T185146Z
UID:10800-1754737200-1754758800@pandvwinery.com
SUMMARY:Levi Jack in the Wine Garden ( 1-4pm)
DESCRIPTION:Sangria and Levi Jack best pairing ever!
URL:https://pandvwinery.com/event/levi-jack-in-the-wine-garden-1-4pm-8/
LOCATION:P & V Winery\, 10155 Dougherty Ave\, Morgan Hill\, California\, 95037\, United States
CATEGORIES:Live Music,Wine Tasting
ATTACH;FMTTYPE=image/jpeg:https://pandvwinery.com/wp-content/uploads/2025/01/Levi-Jack-new.jpg
END:VEVENT
BEGIN:VEVENT
DTSTART;TZID=America/Denver:20250803T120000
DTEND;TZID=America/Denver:20250803T170000
DTSTAMP:20260420T032742
CREATED:20250119T184842Z
LAST-MODIFIED:20250119T184842Z
UID:10799-1754222400-1754240400@pandvwinery.com
SUMMARY:R N R in the Wine Garden ( 1-4pm)
DESCRIPTION:Come chill with your favorite glass of wine and enjoy some great music!
URL:https://pandvwinery.com/event/r-n-r-in-the-wine-garden-1-4pm-4/
LOCATION:P & V Winery\, 10155 Dougherty Ave\, Morgan Hill\, California\, 95037\, United States
CATEGORIES:Live Music,Wine Tasting
ATTACH;FMTTYPE=image/jpeg:https://pandvwinery.com/wp-content/uploads/2025/01/R-and-R.jpeg
END:VEVENT
BEGIN:VEVENT
DTSTART;TZID=America/Denver:20250802T110000
DTEND;TZID=America/Denver:20250802T170000
DTSTAMP:20260420T032742
CREATED:20250118T234256Z
LAST-MODIFIED:20250609T230958Z
UID:10797-1754132400-1754154000@pandvwinery.com
SUMMARY:Diver Sity in the Wine Garden ( 1-4pm)
DESCRIPTION:Come dance the afternoon away with your favorite glass of wine!
URL:https://pandvwinery.com/event/hack-jammers-in-the-wine-garden-1-4pm-3/
LOCATION:P & V Winery\, 10155 Dougherty Ave\, Morgan Hill\, California\, 95037\, United States
CATEGORIES:Live Music,Wine Tasting
ATTACH;FMTTYPE=image/jpeg:https://pandvwinery.com/wp-content/uploads/2025/01/IMG_8783.jpg
END:VEVENT
BEGIN:VEVENT
DTSTART;TZID=America/Denver:20250727T120000
DTEND;TZID=America/Denver:20250727T170000
DTSTAMP:20260420T032742
CREATED:20250727T184936Z
LAST-MODIFIED:20250727T184936Z
UID:11207-1753617600-1753635600@pandvwinery.com
SUMMARY:MUSIC SIP & SHOP  Honky Tonk Saints
DESCRIPTION:Will and John are here today!
URL:https://pandvwinery.com/event/music-sip-shop-honky-tonk-saints/
LOCATION:P & V Winery\, 10155 Dougherty Ave\, Morgan Hill\, California\, 95037\, United States
CATEGORIES:Live Music
ATTACH;FMTTYPE=image/png:https://pandvwinery.com/wp-content/uploads/2025/07/Vendors-in-the-Vines-July-2025.png
END:VEVENT
BEGIN:VEVENT
DTSTART;TZID=America/Denver:20250727T120000
DTEND;TZID=America/Denver:20250727T170000
DTSTAMP:20260420T032742
CREATED:20250118T225627Z
LAST-MODIFIED:20250118T225627Z
UID:10792-1753617600-1753635600@pandvwinery.com
SUMMARY:Honky Tonk Saints in the Wine Garden ( 1-4pm)
DESCRIPTION:Best Country Duo in town!
URL:https://pandvwinery.com/event/honky-tonk-saints-in-the-wine-garden-1-4pm/
LOCATION:P & V Winery\, 10155 Dougherty Ave\, Morgan Hill\, California\, 95037\, United States
CATEGORIES:Live Music,Wine Tasting
ATTACH;FMTTYPE=image/jpeg:https://pandvwinery.com/wp-content/uploads/2025/01/Honky-Tonk-Saints.jpg
END:VEVENT
BEGIN:VEVENT
DTSTART;TZID=America/Denver:20250726T170000
DTEND;TZID=America/Denver:20250726T213000
DTSTAMP:20260420T032742
CREATED:20250627T190345Z
LAST-MODIFIED:20250627T234222Z
UID:11135-1753549200-1753565400@pandvwinery.com
SUMMARY:Country Extravaganza Night with Heartland
DESCRIPTION:They are back and we are thrilled
URL:https://pandvwinery.com/event/country-extravaganza-night-with-heartland-2/
LOCATION:P & V Winery\, 10155 Dougherty Ave\, Morgan Hill\, California\, 95037\, United States
CATEGORIES:Country Night Extravaganza,Live Music
ATTACH;FMTTYPE=image/png:https://pandvwinery.com/wp-content/uploads/2025/06/July-26-Heartland-flyer.png
END:VEVENT
BEGIN:VEVENT
DTSTART;TZID=America/Denver:20250726T110000
DTEND;TZID=America/Denver:20250726T170000
DTSTAMP:20260420T032742
CREATED:20250118T224949Z
LAST-MODIFIED:20250118T224949Z
UID:10791-1753527600-1753549200@pandvwinery.com
SUMMARY:One More Time in the Wine Garden ( 1-4pm)
DESCRIPTION:Dennis and the band will share their 50-60s favorite rock tunes!
URL:https://pandvwinery.com/event/one-more-time-in-the-wine-garden-1-4pm-5/
LOCATION:P & V Winery\, 10155 Dougherty Ave\, Morgan Hill\, California\, 95037\, United States
CATEGORIES:Live Music,Wine Tasting
ATTACH;FMTTYPE=image/jpeg:https://pandvwinery.com/wp-content/uploads/2025/01/One-More-time-new-scaled.jpg
END:VEVENT
BEGIN:VEVENT
DTSTART;TZID=America/Denver:20250720T120000
DTEND;TZID=America/Denver:20250720T170000
DTSTAMP:20260420T032742
CREATED:20250114T045807Z
LAST-MODIFIED:20250114T045807Z
UID:10778-1753012800-1753030800@pandvwinery.com
SUMMARY:Aromas Quarry Boys in the Wine Garden ( 1-4pm)
DESCRIPTION:Classic country and Bluegrass!
URL:https://pandvwinery.com/event/aromas-quarry-boys-in-the-wine-garden-1-4pm-7/
LOCATION:P & V Winery\, 10155 Dougherty Ave\, Morgan Hill\, California\, 95037\, United States
CATEGORIES:Live Music,Wine Tasting
ATTACH;FMTTYPE=image/jpeg:https://pandvwinery.com/wp-content/uploads/2025/01/Aromas-Q-New-PV-scaled.jpg
END:VEVENT
BEGIN:VEVENT
DTSTART;TZID=America/Denver:20250719T110000
DTEND;TZID=America/Denver:20250719T170000
DTSTAMP:20260420T032742
CREATED:20250114T045406Z
LAST-MODIFIED:20250118T224117Z
UID:10777-1752922800-1752944400@pandvwinery.com
SUMMARY:Throwing Roses in the Wine Garden ( 1-4pm)
DESCRIPTION:Shelley and the band will rock the garden
URL:https://pandvwinery.com/event/throwing-roses-in-the-wine-garden-1-4pm/
LOCATION:P & V Winery\, 10155 Dougherty Ave\, Morgan Hill\, California\, 95037\, United States
CATEGORIES:Live Music,Wine Tasting
ATTACH;FMTTYPE=image/png:https://pandvwinery.com/wp-content/uploads/2025/01/Throwing-Roses.png
END:VEVENT
BEGIN:VEVENT
DTSTART;TZID=America/Denver:20250713T120000
DTEND;TZID=America/Denver:20250713T170000
DTSTAMP:20260420T032742
CREATED:20250114T045135Z
LAST-MODIFIED:20250114T045135Z
UID:10775-1752408000-1752426000@pandvwinery.com
SUMMARY:Levi Jack Duo in the Wine Garden (1-4pm)
DESCRIPTION:This Duo pairs with our Wine cocktails!
URL:https://pandvwinery.com/event/levi-jack-duo-in-the-wine-garden-1-4pm/
LOCATION:P & V Winery\, 10155 Dougherty Ave\, Morgan Hill\, California\, 95037\, United States
CATEGORIES:Live Music,Wine Tasting
ATTACH;FMTTYPE=image/jpeg:https://pandvwinery.com/wp-content/uploads/2025/01/Levi-Jack-sign.jpg
END:VEVENT
BEGIN:VEVENT
DTSTART;TZID=America/Denver:20250712T170000
DTEND;TZID=America/Denver:20250712T213000
DTSTAMP:20260420T032742
CREATED:20250118T224535Z
LAST-MODIFIED:20250118T224535Z
UID:10790-1752339600-1752355800@pandvwinery.com
SUMMARY:Country Night Extravaganza with Bootleg (6:30-9:30)
DESCRIPTION:Open at 5pm- Tacos- Vendors and Line Dancing!
URL:https://pandvwinery.com/event/country-night-extravaganza-with-bootleg-630-930/
LOCATION:P & V Winery\, 10155 Dougherty Ave\, Morgan Hill\, California\, 95037\, United States
CATEGORIES:Country Night Extravaganza,Live Music,Wine Tasting
ATTACH;FMTTYPE=image/png:https://pandvwinery.com/wp-content/uploads/2025/01/2025-Country-Extravaganza.png
END:VEVENT
BEGIN:VEVENT
DTSTART;TZID=America/Denver:20250712T110000
DTEND;TZID=America/Denver:20250712T170000
DTSTAMP:20260420T032742
CREATED:20250114T044442Z
LAST-MODIFIED:20250114T044442Z
UID:10773-1752318000-1752339600@pandvwinery.com
SUMMARY:Encore in the Wine Garden ( 1-4pm)
DESCRIPTION:Sarah and the boys are back! Dancing shoes required!
URL:https://pandvwinery.com/event/encore-in-the-wine-garden-1-4pm-2/
LOCATION:P & V Winery\, 10155 Dougherty Ave\, Morgan Hill\, California\, 95037\, United States
CATEGORIES:Live Music,Wine Tasting
ATTACH;FMTTYPE=image/jpeg:https://pandvwinery.com/wp-content/uploads/2025/01/2025-Encore.jpeg
END:VEVENT
BEGIN:VEVENT
DTSTART;TZID=America/Denver:20250706T120000
DTEND;TZID=America/Denver:20250706T170000
DTSTAMP:20260420T032742
CREATED:20250114T044043Z
LAST-MODIFIED:20250114T044145Z
UID:10772-1751803200-1751821200@pandvwinery.com
SUMMARY:R N R in the Wine garden ( 1-4pm)
DESCRIPTION:Ron and Rebecca are amazing artists sing Adel to Johnny Cash!
URL:https://pandvwinery.com/event/r-n-r-in-the-wine-garden-1-4pm-3/
LOCATION:P & V Winery\, 10155 Dougherty Ave\, Morgan Hill\, California\, 95037\, United States
CATEGORIES:Live Music,Wine Tasting
ATTACH;FMTTYPE=image/jpeg:https://pandvwinery.com/wp-content/uploads/2025/01/R-and-R.jpeg
END:VEVENT
END:VCALENDAR