BEGIN:VCALENDAR
VERSION:2.0
PRODID:-//P and V Winery - ECPv6.15.20//NONSGML v1.0//EN
CALSCALE:GREGORIAN
METHOD:PUBLISH
X-ORIGINAL-URL:https://pandvwinery.com
X-WR-CALDESC:Events for P and V Winery
REFRESH-INTERVAL;VALUE=DURATION:PT1H
X-Robots-Tag:noindex
X-PUBLISHED-TTL:PT1H
BEGIN:VTIMEZONE
TZID:America/Denver
BEGIN:DAYLIGHT
TZOFFSETFROM:-0700
TZOFFSETTO:-0600
TZNAME:MDT
DTSTART:20250309T090000
END:DAYLIGHT
BEGIN:STANDARD
TZOFFSETFROM:-0600
TZOFFSETTO:-0700
TZNAME:MST
DTSTART:20251102T080000
END:STANDARD
BEGIN:DAYLIGHT
TZOFFSETFROM:-0700
TZOFFSETTO:-0600
TZNAME:MDT
DTSTART:20260308T090000
END:DAYLIGHT
BEGIN:STANDARD
TZOFFSETFROM:-0600
TZOFFSETTO:-0700
TZNAME:MST
DTSTART:20261101T080000
END:STANDARD
BEGIN:DAYLIGHT
TZOFFSETFROM:-0700
TZOFFSETTO:-0600
TZNAME:MDT
DTSTART:20270314T090000
END:DAYLIGHT
BEGIN:STANDARD
TZOFFSETFROM:-0600
TZOFFSETTO:-0700
TZNAME:MST
DTSTART:20271107T080000
END:STANDARD
END:VTIMEZONE
BEGIN:VEVENT
DTSTART;TZID=America/Denver:20260524T120000
DTEND;TZID=America/Denver:20260524T170000
DTSTAMP:20260421T111328
CREATED:20260417T153457Z
LAST-MODIFIED:20260417T153457Z
UID:11558-1779624000-1779642000@pandvwinery.com
SUMMARY:Vendors in the Vines with the Aromas Quarry Boys
DESCRIPTION:Classic County\, Amazing wine\, Tacos & Vendors!
URL:https://pandvwinery.com/event/vendors-in-the-vines-with-the-aromas-quarry-boys/
LOCATION:P & V Winery\, 10155 Dougherty Ave\, Morgan Hill\, California\, 95037\, United States
CATEGORIES:Live Music,Vendors,Wine Tasting
ATTACH;FMTTYPE=image/jpeg:https://pandvwinery.com/wp-content/uploads/2026/04/VIV-May-2026.jpg
END:VEVENT
BEGIN:VEVENT
DTSTART;TZID=America/Denver:20260529T170000
DTEND;TZID=America/Denver:20260529T213000
DTSTAMP:20260421T111329
CREATED:20260417T153748Z
LAST-MODIFIED:20260417T154702Z
UID:11560-1780074000-1780090200@pandvwinery.com
SUMMARY:Country Extravaganza with Heartland ( 6:00-9:30)
DESCRIPTION:Wine Tasting\, Classic Country\, BBQ & Line Dancing!
URL:https://pandvwinery.com/event/country-extravaganza-with-heartland-600-930/
LOCATION:P & V Winery\, 10155 Dougherty Ave\, Morgan Hill\, California\, 95037\, United States
CATEGORIES:Line Dancing,Live Music,Wine Tasting
ATTACH;FMTTYPE=image/jpeg:https://pandvwinery.com/wp-content/uploads/2026/04/Hearland-Flyer-2026.jpg
END:VEVENT
BEGIN:VEVENT
DTSTART;TZID=America/Denver:20260530T110000
DTEND;TZID=America/Denver:20260530T170000
DTSTAMP:20260421T111329
CREATED:20260417T154316Z
LAST-MODIFIED:20260417T154316Z
UID:11563-1780138800-1780160400@pandvwinery.com
SUMMARY:Wine Tasting with Harmony Lane ( 1-4pm)
DESCRIPTION:Come Wine down with us!
URL:https://pandvwinery.com/event/wine-tasting-with-harmony-lane-1-4pm/
LOCATION:P & V Winery\, 10155 Dougherty Ave\, Morgan Hill\, California\, 95037\, United States
CATEGORIES:Live Music,Wine Tasting
ATTACH;FMTTYPE=image/jpeg:https://pandvwinery.com/wp-content/uploads/2026/03/Wine-cocktails.jpg
END:VEVENT
BEGIN:VEVENT
DTSTART;TZID=America/Denver:20260531T120000
DTEND;TZID=America/Denver:20260531T170000
DTSTAMP:20260421T111329
CREATED:20260417T154025Z
LAST-MODIFIED:20260417T154025Z
UID:11562-1780228800-1780246800@pandvwinery.com
SUMMARY:Wine Tasting with Levi Jack ( 1-4pm)
DESCRIPTION:Marty and the Boys are back to entertain you!
URL:https://pandvwinery.com/event/wine-tasting-with-levi-jack-1-4pm-2/
LOCATION:P & V Winery\, 10155 Dougherty Ave\, Morgan Hill\, California\, 95037\, United States
CATEGORIES:Live Music,Wine Tasting
ATTACH;FMTTYPE=image/jpeg:https://pandvwinery.com/wp-content/uploads/2023/02/Levi-Jack-sign-1.jpg
END:VEVENT
END:VCALENDAR